BEGIN:VCALENDAR
VERSION:2.0
METHOD:PUBLISH
X-WR-CALNAME:Order of the Golden Sprout |  February 28 2009- March 30 2009
PRODID:-//strange bird labs//Drupal iCal API//EN
BEGIN:VEVENT
DTSTAMP;VALUE=DATE-TIME:20260421T103816Z
DTSTART;VALUE=DATE-TIME:20090228T105200Z
DTEND;VALUE=DATE-TIME:20090228T184000Z
UID:https://www.thegoldensprout.com/events/picocon-26
URL;VALUE=URI:https://www.thegoldensprout.com/events/picocon-26
SUMMARY:Picocon 26
DESCRIPTION:n/a
END:VEVENT
BEGIN:VEVENT
DTSTAMP;VALUE=DATE-TIME:20260421T103816Z
DTSTART;VALUE=DATE-TIME:20090327T190000Z
DTEND;VALUE=DATE-TIME:20090329T120000Z
UID:https://www.thegoldensprout.com/events/large-4
URL;VALUE=URI:https://www.thegoldensprout.com/events/large-4
SUMMARY:LARGE 4
DESCRIPTION:n/a
END:VEVENT
END:VCALENDAR
